BEGIN:VCALENDAR
VERSION:2.0
PRODID:-//Squarespace Inc/Squarespace 6//v6//EN
BEGIN:VEVENT
UID:5c070983f950b713bac801a1@squarespace.com
DTSTAMP:20190116T235144Z
DTSTART:20170323T123000Z
DTEND:20170326T013000Z
SUMMARY:WOW Melbourne 2017
GEO:-37.803023;144.907381
LOCATION:Footscray Community Arts Centre\, 45 Moreland St\, Footscray\, Aus
 tralia
END:VEVENT
END:VCALENDAR
